BEGIN:VCALENDAR
VERSION:2.0
PRODID:-//FC Thuisbrunn//NONSGML kigkonsult.se iCalcreator 2.16.12//
METHOD:PUBLISH
X-MS-OLK-FORCEINSPECTOROPEN:TRUE
BEGIN:VEVENT
UID:20260421T105036CEST-5908TUf5oT@FC Thuisbrunn
DTSTAMP:20260421T085036Z
DESCRIPTION:\n\n\n\n 
DTSTART:20250425T190000
DTEND:20250430T235900
ORGANIZER:MAILTO:FC Thuisbrunn <>
SUMMARY:Thuisbrunner Frühlingsfest
END:VEVENT
END:VCALENDAR
